Package: GEOsubmission Version: 1.54.0 Command: rm -rf GEOsubmission.buildbin-libdir && mkdir GEOsubmission.buildbin-libdir && /Users/biocbuild/BBS/utils/build-universal.sh GEOsubmission_1.54.0.tar.gz /Library/Frameworks/R.framework/Resources/bin/R GEOsubmission.buildbin-libdir StartedAt: 2024-04-16 11:49:29 -0400 (Tue, 16 Apr 2024) EndedAt: 2024-04-16 11:49:39 -0400 (Tue, 16 Apr 2024) EllapsedTime: 10.3 seconds RetCode: 0 Status: OK PackageFile: GEOsubmission_1.54.0.tgz PackageFileSize: 208.4 KiB