Package: GEOsubmission Version: 1.54.0 Command: /Library/Frameworks/R.framework/Resources/bin/R CMD check --install=check:GEOsubmission.install-out.txt --library=/Library/Frameworks/R.framework/Resources/library --no-vignettes --timings GEOsubmission_1.54.0.tar.gz StartedAt: 2024-03-03 20:52:08 -0500 (Sun, 03 Mar 2024) EndedAt: 2024-03-03 20:52:44 -0500 (Sun, 03 Mar 2024) EllapsedTime: 36.1 seconds RetCode: 0 Status: OK CheckDir: GEOsubmission.Rcheck Warnings: 0