Package: GEOquery Version: 2.70.0 Command: rm -rf GEOquery.buildbin-libdir && mkdir GEOquery.buildbin-libdir && F:\biocbuild\bbs-3.18-bioc\R\bin\R.exe CMD INSTALL --build --library=GEOquery.buildbin-libdir GEOquery_2.70.0.tar.gz StartedAt: 2024-04-16 07:04:41 -0400 (Tue, 16 Apr 2024) EndedAt: 2024-04-16 07:04:58 -0400 (Tue, 16 Apr 2024) EllapsedTime: 17.0 seconds RetCode: 0 Status: OK PackageFile: GEOquery_2.70.0.zip PackageFileSize: 13.27 MiB