Package: GEOquery Version: 2.70.0 Maintainer: Sean Davis MaintainerEmail: seandavi at gmail.com git_url: https://git.bioconductor.org/packages/GEOquery git_branch: RELEASE_3_18 git_last_commit: 3f46879 git_last_commit_date: 2023-10-24 09:36:03 -0400 (Tue, 24 Oct 2023)