Package: GEOmetadb Version: 1.64.0 Command: /Library/Frameworks/R.framework/Resources/bin/R CMD check --install=check:GEOmetadb.install-out.txt --library=/Library/Frameworks/R.framework/Resources/library --no-vignettes --timings GEOmetadb_1.64.0.tar.gz StartedAt: 2024-03-03 20:51:00 -0500 (Sun, 03 Mar 2024) EndedAt: 2024-03-03 20:52:08 -0500 (Sun, 03 Mar 2024) EllapsedTime: 67.6 seconds RetCode: 0 Status: WARNINGS CheckDir: GEOmetadb.Rcheck Warnings: 1