Package: GEOfastq Version: 1.10.0 Command: rm -rf GEOfastq.buildbin-libdir && mkdir GEOfastq.buildbin-libdir && F:\biocbuild\bbs-3.18-bioc\R\bin\R.exe CMD INSTALL --build --library=GEOfastq.buildbin-libdir GEOfastq_1.10.0.tar.gz StartedAt: 2024-04-16 07:04:35 -0400 (Tue, 16 Apr 2024) EndedAt: 2024-04-16 07:04:39 -0400 (Tue, 16 Apr 2024) EllapsedTime: 4.5 seconds RetCode: 0 Status: OK PackageFile: GEOfastq_1.10.0.zip PackageFileSize: 41.04 KiB