Package: GEOexplorer Version: 1.8.0 Command: /home/biocbuild/bbs-3.18-bioc/R/bin/R CMD check --install=check:GEOexplorer.install-out.txt --library=/home/biocbuild/bbs-3.18-bioc/R/site-library --timings GEOexplorer_1.8.0.tar.gz StartedAt: 2024-04-15 23:12:16 -0400 (Mon, 15 Apr 2024) EndedAt: 2024-04-15 23:52:16 -0400 (Mon, 15 Apr 2024) EllapsedTime: 2400.2 seconds RetCode: None Status: TIMEOUT CheckDir: GEOexplorer.Rcheck Warnings: NA