Package: GEOexplorer Version: 1.8.0 Command: /home/biocbuild/bbs-3.18-bioc/R/bin/R CMD build --keep-empty-dirs --no-resave-data GEOexplorer StartedAt: 2024-04-15 17:15:15 -0400 (Mon, 15 Apr 2024) EndedAt: 2024-04-15 17:15:57 -0400 (Mon, 15 Apr 2024) EllapsedTime: 42.3 seconds RetCode: 0 Status: OK PackageFile: GEOexplorer_1.8.0.tar.gz PackageFileSize: 11.26 MiB