Package: GENIE3 Version: 1.24.0 Command: rm -rf GENIE3.buildbin-libdir && mkdir GENIE3.buildbin-libdir && /Users/biocbuild/BBS/utils/build-universal.sh GENIE3_1.24.0.tar.gz /Library/Frameworks/R.framework/Resources/bin/R GENIE3.buildbin-libdir StartedAt: 2024-03-04 00:42:53 -0500 (Mon, 04 Mar 2024) EndedAt: 2024-03-04 00:43:03 -0500 (Mon, 04 Mar 2024) EllapsedTime: 10.3 seconds RetCode: 0 Status: OK PackageFile: GENIE3_1.24.0.tgz PackageFileSize: 264.6 KiB