Package: GENESIS Version: 2.32.0 Command: /Library/Frameworks/R.framework/Resources/bin/R CMD INSTALL GENESIS StartedAt: 2024-04-15 16:19:08 -0400 (Mon, 15 Apr 2024) EndedAt: 2024-04-15 16:20:08 -0400 (Mon, 15 Apr 2024) EllapsedTime: 59.6 seconds RetCode: 0 Status: OK