Package: GEM Version: 1.28.0 Command: /Library/Frameworks/R.framework/Resources/bin/R CMD INSTALL GEM StartedAt: 2024-04-15 15:14:52 -0400 (Mon, 15 Apr 2024) EndedAt: 2024-04-15 15:15:09 -0400 (Mon, 15 Apr 2024) EllapsedTime: 16.1 seconds RetCode: 0 Status: OK