Package: GEM Version: 1.28.0 Command: rm -rf GEM.buildbin-libdir && mkdir GEM.buildbin-libdir && /Users/biocbuild/BBS/utils/build-universal.sh GEM_1.28.0.tar.gz /Library/Frameworks/R.framework/Resources/bin/R GEM.buildbin-libdir StartedAt: 2024-03-04 00:42:29 -0500 (Mon, 04 Mar 2024) EndedAt: 2024-03-04 00:42:41 -0500 (Mon, 04 Mar 2024) EllapsedTime: 12.2 seconds RetCode: 0 Status: OK PackageFile: GEM_1.28.0.tgz PackageFileSize: 829.3 KiB