Package: GDSArray Version: 1.22.0 Command: /Library/Frameworks/R.framework/Resources/bin/R CMD INSTALL GDSArray StartedAt: 2024-03-03 15:10:39 -0500 (Sun, 03 Mar 2024) EndedAt: 2024-03-03 15:11:03 -0500 (Sun, 03 Mar 2024) EllapsedTime: 24.3 seconds RetCode: 0 Status: OK