Package: GDCRNATools Version: 1.22.0 Command: /Library/Frameworks/R.framework/Resources/bin/R CMD build --keep-empty-dirs --no-resave-data GDCRNATools StartedAt: 2024-04-15 18:49:51 -0400 (Mon, 15 Apr 2024) EndedAt: 2024-04-15 18:51:53 -0400 (Mon, 15 Apr 2024) EllapsedTime: 121.2 seconds RetCode: 0 Status: OK PackageFile: GDCRNATools_1.22.0.tar.gz PackageFileSize: 5.314 MiB