Package: GDCRNATools Version: 1.22.0 Command: /Library/Frameworks/R.framework/Resources/bin/R CMD build --keep-empty-dirs --no-resave-data GDCRNATools StartedAt: 2024-03-03 16:47:45 -0500 (Sun, 03 Mar 2024) EndedAt: 2024-03-03 16:48:58 -0500 (Sun, 03 Mar 2024) EllapsedTime: 73.3 seconds RetCode: 0 Status: OK PackageFile: GDCRNATools_1.22.0.tar.gz PackageFileSize: 5.314 MiB