Package: GCSscore Version: 1.16.0 Command: /home/biocbuild/bbs-3.18-bioc/R/bin/R CMD check --install=check:GCSscore.install-out.txt --library=/home/biocbuild/bbs-3.18-bioc/R/site-library --timings GCSscore_1.16.0.tar.gz StartedAt: 2024-04-15 22:58:08 -0400 (Mon, 15 Apr 2024) EndedAt: 2024-04-15 23:08:49 -0400 (Mon, 15 Apr 2024) EllapsedTime: 640.5 seconds RetCode: 1 Status: ERROR CheckDir: GCSscore.Rcheck Warnings: NA