Package: GCSscore Version: 1.16.0 Command: /Library/Frameworks/R.framework/Resources/bin/R CMD check --install=check:GCSscore.install-out.txt --library=/Library/Frameworks/R.framework/Resources/library --no-vignettes --timings GCSscore_1.16.0.tar.gz StartedAt: 2024-04-16 03:03:04 -0400 (Tue, 16 Apr 2024) EndedAt: 2024-04-16 03:06:00 -0400 (Tue, 16 Apr 2024) EllapsedTime: 176.1 seconds RetCode: 0 Status: WARNINGS CheckDir: GCSscore.Rcheck Warnings: 1