Package: GBScleanR Version: 1.6.0 Command: chmod a+r GBScleanR -R && F:\biocbuild\bbs-3.18-bioc\R\bin\R.exe CMD build --keep-empty-dirs --no-resave-data GBScleanR StartedAt: 2024-04-15 18:37:51 -0400 (Mon, 15 Apr 2024) EndedAt: 2024-04-15 18:40:11 -0400 (Mon, 15 Apr 2024) EllapsedTime: 140.2 seconds RetCode: 0 Status: OK PackageFile: GBScleanR_1.6.0.tar.gz PackageFileSize: 849.1 KiB