Package: GBScleanR Version: 1.6.0 Command: rm -rf GBScleanR.buildbin-libdir && mkdir GBScleanR.buildbin-libdir && F:\biocbuild\bbs-3.18-bioc\R\bin\R.exe CMD INSTALL --build --library=GBScleanR.buildbin-libdir GBScleanR_1.6.0.tar.gz StartedAt: 2024-04-16 07:02:25 -0400 (Tue, 16 Apr 2024) EndedAt: 2024-04-16 07:04:04 -0400 (Tue, 16 Apr 2024) EllapsedTime: 99.2 seconds RetCode: 0 Status: OK PackageFile: GBScleanR_1.6.0.zip PackageFileSize: 1.747 MiB