Package: GBScleanR Version: 1.6.0 Command: /home/biocbuild/R/R-4.3.1/bin/R CMD build --keep-empty-dirs --no-resave-data GBScleanR StartedAt: 2023-11-02 01:16:32 -0000 (Thu, 02 Nov 2023) EndedAt: 2023-11-02 01:18:46 -0000 (Thu, 02 Nov 2023) EllapsedTime: 133.2 seconds RetCode: 0 Status: OK PackageFile: GBScleanR_1.6.0.tar.gz PackageFileSize: 1.8 MiB