Package: GARS Version: 1.22.0 Command: /Library/Frameworks/R.framework/Resources/bin/R CMD INSTALL GARS StartedAt: 2024-03-03 15:40:01 -0500 (Sun, 03 Mar 2024) EndedAt: 2024-03-03 15:41:17 -0500 (Sun, 03 Mar 2024) EllapsedTime: 75.3 seconds RetCode: 0 Status: OK