Package: GARS Version: 1.22.0 Command: rm -rf GARS.buildbin-libdir && mkdir GARS.buildbin-libdir && /Users/biocbuild/BBS/utils/build-universal.sh GARS_1.22.0.tar.gz /Library/Frameworks/R.framework/Resources/bin/R GARS.buildbin-libdir StartedAt: 2024-03-04 00:42:10 -0500 (Mon, 04 Mar 2024) EndedAt: 2024-03-04 00:43:28 -0500 (Mon, 04 Mar 2024) EllapsedTime: 78.0 seconds RetCode: 0 Status: OK PackageFile: GARS_1.22.0.tgz PackageFileSize: 500.3 KiB