Package: GARS Version: 1.22.0 Command: /home/biocbuild/R/R-4.3.1/bin/R CMD INSTALL GARS StartedAt: 2023-11-01 20:53:55 -0000 (Wed, 01 Nov 2023) EndedAt: 2023-11-01 20:55:11 -0000 (Wed, 01 Nov 2023) EllapsedTime: 75.9 seconds RetCode: 0 Status: OK