Package: GA4GHclient Version: 1.26.0 Command: /Library/Frameworks/R.framework/Resources/bin/R CMD INSTALL GA4GHclient StartedAt: 2024-04-15 15:48:21 -0400 (Mon, 15 Apr 2024) EndedAt: 2024-04-15 15:49:45 -0400 (Mon, 15 Apr 2024) EllapsedTime: 83.6 seconds RetCode: 0 Status: OK