Package: GA4GHclient Version: 1.26.0 Command: /Library/Frameworks/R.framework/Resources/bin/R CMD build --keep-empty-dirs --no-resave-data GA4GHclient StartedAt: 2024-04-15 18:47:20 -0400 (Mon, 15 Apr 2024) EndedAt: 2024-04-15 18:50:12 -0400 (Mon, 15 Apr 2024) EllapsedTime: 171.9 seconds RetCode: 0 Status: OK PackageFile: GA4GHclient_1.26.0.tar.gz PackageFileSize: 637.6 KiB