Package: GA4GHclient Version: 1.26.0 Command: /Library/Frameworks/R.framework/Resources/bin/R CMD INSTALL GA4GHclient StartedAt: 2024-03-03 15:21:11 -0500 (Sun, 03 Mar 2024) EndedAt: 2024-03-03 15:22:06 -0500 (Sun, 03 Mar 2024) EllapsedTime: 54.8 seconds RetCode: 0 Status: OK