Package: GA4GHclient Version: 1.26.0 Command: /home/biocbuild/R/R-4.3.1/bin/R CMD check --install=check:GA4GHclient.install-out.txt --library=/home/biocbuild/R/R-4.3.1/site-library --no-vignettes --timings GA4GHclient_1.26.0.tar.gz StartedAt: 2023-11-02 10:38:18 -0000 (Thu, 02 Nov 2023) EndedAt: 2023-11-02 10:44:49 -0000 (Thu, 02 Nov 2023) EllapsedTime: 391.2 seconds RetCode: 0 Status: OK CheckDir: GA4GHclient.Rcheck Warnings: 0