Package: FlowSOM Version: 2.10.0 Command: chmod a+r FlowSOM -R && F:\biocbuild\bbs-3.18-bioc\R\bin\R.exe CMD build --keep-empty-dirs --no-resave-data FlowSOM StartedAt: 2024-04-15 18:34:37 -0400 (Mon, 15 Apr 2024) EndedAt: 2024-04-15 18:37:06 -0400 (Mon, 15 Apr 2024) EllapsedTime: 148.1 seconds RetCode: 0 Status: OK PackageFile: FlowSOM_2.10.0.tar.gz PackageFileSize: 4.904 MiB