Package: FlowSOM Version: 2.10.0 Command: /Library/Frameworks/R.framework/Resources/bin/R CMD build --keep-empty-dirs --no-resave-data FlowSOM StartedAt: 2024-04-15 18:45:11 -0400 (Mon, 15 Apr 2024) EndedAt: 2024-04-15 18:50:03 -0400 (Mon, 15 Apr 2024) EllapsedTime: 292.8 seconds RetCode: 0 Status: OK PackageFile: FlowSOM_2.10.0.tar.gz PackageFileSize: 4.905 MiB