Package: FlowSOM Version: 2.10.0 Command: rm -rf FlowSOM.buildbin-libdir && mkdir FlowSOM.buildbin-libdir && /Users/biocbuild/BBS/utils/build-universal.sh FlowSOM_2.10.0.tar.gz /Library/Frameworks/R.framework/Resources/bin/R FlowSOM.buildbin-libdir StartedAt: 2024-04-16 11:43:37 -0400 (Tue, 16 Apr 2024) EndedAt: 2024-04-16 11:44:28 -0400 (Tue, 16 Apr 2024) EllapsedTime: 50.8 seconds RetCode: 0 Status: OK PackageFile: FlowSOM_2.10.0.tgz PackageFileSize: 5.224 MiB