Package: FlowSOM Version: 2.10.0 Command: /Library/Frameworks/R.framework/Resources/bin/R CMD check --install=check:FlowSOM.install-out.txt --library=/Library/Frameworks/R.framework/Resources/library --no-vignettes --timings FlowSOM_2.10.0.tar.gz StartedAt: 2024-03-03 20:40:26 -0500 (Sun, 03 Mar 2024) EndedAt: 2024-03-03 20:51:45 -0500 (Sun, 03 Mar 2024) EllapsedTime: 679.2 seconds RetCode: 0 Status: OK CheckDir: FlowSOM.Rcheck Warnings: 0