Package: FastqCleaner Version: 1.20.0 Command: /Library/Frameworks/R.framework/Resources/bin/R CMD INSTALL FastqCleaner StartedAt: 2024-04-15 15:58:43 -0400 (Mon, 15 Apr 2024) EndedAt: 2024-04-15 16:00:37 -0400 (Mon, 15 Apr 2024) EllapsedTime: 114.0 seconds RetCode: 0 Status: OK