Package: FastqCleaner Version: 1.20.0 Command: /Library/Frameworks/R.framework/Resources/bin/R CMD INSTALL FastqCleaner StartedAt: 2024-03-03 15:27:18 -0500 (Sun, 03 Mar 2024) EndedAt: 2024-03-03 15:28:25 -0500 (Sun, 03 Mar 2024) EllapsedTime: 67.4 seconds RetCode: 0 Status: OK