Package: FamAgg Version: 1.30.0 Command: chmod a+r FamAgg -R && F:\biocbuild\bbs-3.18-bioc\R\bin\R.exe CMD build --keep-empty-dirs --no-resave-data FamAgg StartedAt: 2024-04-15 18:24:46 -0400 (Mon, 15 Apr 2024) EndedAt: 2024-04-15 18:27:39 -0400 (Mon, 15 Apr 2024) EllapsedTime: 173.3 seconds RetCode: 0 Status: OK PackageFile: FamAgg_1.30.0.tar.gz PackageFileSize: 942.5 KiB