Package: FamAgg Version: 1.30.0 Command: /home/biocbuild/bbs-3.18-bioc/R/bin/R CMD check --install=check:FamAgg.install-out.txt --library=/home/biocbuild/bbs-3.18-bioc/R/site-library --timings FamAgg_1.30.0.tar.gz StartedAt: 2024-04-15 22:42:54 -0400 (Mon, 15 Apr 2024) EndedAt: 2024-04-15 22:46:04 -0400 (Mon, 15 Apr 2024) EllapsedTime: 190.2 seconds RetCode: 0 Status: OK CheckDir: FamAgg.Rcheck Warnings: 0