Package: FamAgg Version: 1.30.0 Command: /home/biocbuild/bbs-3.18-bioc/R/bin/R CMD build --keep-empty-dirs --no-resave-data FamAgg StartedAt: 2024-04-15 17:03:29 -0400 (Mon, 15 Apr 2024) EndedAt: 2024-04-15 17:04:33 -0400 (Mon, 15 Apr 2024) EllapsedTime: 63.9 seconds RetCode: 0 Status: OK PackageFile: FamAgg_1.30.0.tar.gz PackageFileSize: 1.476 MiB