Package: FamAgg Version: 1.30.0 Command: /Library/Frameworks/R.framework/Resources/bin/R CMD build --keep-empty-dirs --no-resave-data FamAgg StartedAt: 2024-04-15 18:39:25 -0400 (Mon, 15 Apr 2024) EndedAt: 2024-04-15 18:41:38 -0400 (Mon, 15 Apr 2024) EllapsedTime: 133.1 seconds RetCode: 0 Status: OK PackageFile: FamAgg_1.30.0.tar.gz PackageFileSize: 1.654 MiB