Package: FScanR Version: 1.12.0 Command: F:\biocbuild\bbs-3.18-bioc\R\bin\R.exe CMD INSTALL FScanR StartedAt: 2024-04-15 16:33:44 -0400 (Mon, 15 Apr 2024) EndedAt: 2024-04-15 16:33:48 -0400 (Mon, 15 Apr 2024) EllapsedTime: 4.2 seconds RetCode: 0 Status: OK