Package: FScanR Version: 1.12.0 Command: /Library/Frameworks/R.framework/Resources/bin/R CMD build --keep-empty-dirs --no-resave-data FScanR StartedAt: 2024-04-15 18:46:57 -0400 (Mon, 15 Apr 2024) EndedAt: 2024-04-15 18:47:12 -0400 (Mon, 15 Apr 2024) EllapsedTime: 15.2 seconds RetCode: 0 Status: OK PackageFile: FScanR_1.12.0.tar.gz PackageFileSize: 925.5 KiB