Package: FScanR Version: 1.12.0 Command: /home/biocbuild/R/R-4.3.1/bin/R CMD build --keep-empty-dirs --no-resave-data FScanR StartedAt: 2023-11-02 01:13:59 -0000 (Thu, 02 Nov 2023) EndedAt: 2023-11-02 01:14:06 -0000 (Thu, 02 Nov 2023) EllapsedTime: 7.0 seconds RetCode: 0 Status: OK PackageFile: FScanR_1.12.0.tar.gz PackageFileSize: 919.4 KiB