Package: FRGEpistasis Version: 1.38.0 Command: rm -rf FRGEpistasis.buildbin-libdir && mkdir FRGEpistasis.buildbin-libdir && F:\biocbuild\bbs-3.18-bioc\R\bin\R.exe CMD INSTALL --build --library=FRGEpistasis.buildbin-libdir FRGEpistasis_1.38.0.tar.gz StartedAt: 2024-04-16 07:01:59 -0400 (Tue, 16 Apr 2024) EndedAt: 2024-04-16 07:02:21 -0400 (Tue, 16 Apr 2024) EllapsedTime: 22.4 seconds RetCode: 0 Status: OK PackageFile: FRGEpistasis_1.38.0.zip PackageFileSize: 297.3 KiB