Package: FRGEpistasis Version: 1.38.0 Command: /home/biocbuild/R/R-4.3.1/bin/R CMD build --keep-empty-dirs --no-resave-data FRGEpistasis StartedAt: 2023-11-02 01:13:33 -0000 (Thu, 02 Nov 2023) EndedAt: 2023-11-02 01:13:48 -0000 (Thu, 02 Nov 2023) EllapsedTime: 15.0 seconds RetCode: 0 Status: OK PackageFile: FRGEpistasis_1.38.0.tar.gz PackageFileSize: 306.6 KiB