Package: FRASER Version: 1.14.1 Command: chmod a+r FRASER -R && F:\biocbuild\bbs-3.18-bioc\R\bin\R.exe CMD build --keep-empty-dirs --no-resave-data FRASER StartedAt: 2024-04-15 18:35:37 -0400 (Mon, 15 Apr 2024) EndedAt: 2024-04-15 18:39:47 -0400 (Mon, 15 Apr 2024) EllapsedTime: 249.6 seconds RetCode: 0 Status: OK PackageFile: FRASER_1.14.1.tar.gz PackageFileSize: 1.755 MiB