Package: FRASER Version: 1.14.1 Command: /home/biocbuild/bbs-3.18-bioc/R/bin/R CMD check --install=check:FRASER.install-out.txt --library=/home/biocbuild/bbs-3.18-bioc/R/site-library --timings FRASER_1.14.1.tar.gz StartedAt: 2024-04-15 22:53:50 -0400 (Mon, 15 Apr 2024) EndedAt: 2024-04-15 23:08:46 -0400 (Mon, 15 Apr 2024) EllapsedTime: 896.0 seconds RetCode: 0 Status: OK CheckDir: FRASER.Rcheck Warnings: 0