Package: FRASER Version: 1.14.0 Command: /home/biocbuild/R/R-4.3.1/bin/R CMD check --install=check:FRASER.install-out.txt --library=/home/biocbuild/R/R-4.3.1/site-library --no-vignettes --timings FRASER_1.14.0.tar.gz StartedAt: 2023-11-02 10:37:10 -0000 (Thu, 02 Nov 2023) EndedAt: 2023-11-02 10:52:06 -0000 (Thu, 02 Nov 2023) EllapsedTime: 896.2 seconds RetCode: 1 Status: ERROR CheckDir: FRASER.Rcheck Warnings: NA