Package: FISHalyseR Version: 1.36.0 Command: /Library/Frameworks/R.framework/Resources/bin/R CMD INSTALL FISHalyseR StartedAt: 2024-04-15 16:01:54 -0400 (Mon, 15 Apr 2024) EndedAt: 2024-04-15 16:02:04 -0400 (Mon, 15 Apr 2024) EllapsedTime: 10.2 seconds RetCode: 0 Status: OK