Package: FELLA Version: 1.22.0 Command: /Library/Frameworks/R.framework/Resources/bin/R CMD check --install=check:FELLA.install-out.txt --library=/Library/Frameworks/R.framework/Resources/library --no-vignettes --timings FELLA_1.22.0.tar.gz StartedAt: 2024-03-19 02:35:55 -0400 (Tue, 19 Mar 2024) EndedAt: 2024-03-19 02:42:18 -0400 (Tue, 19 Mar 2024) EllapsedTime: 383.1 seconds RetCode: 0 Status: OK CheckDir: FELLA.Rcheck Warnings: 0