Package: FELLA Version: 1.21.0 Command: /home/biocbuild/R/R-4.3.1/bin/R CMD check --install=check:FELLA.install-out.txt --library=/home/biocbuild/R/R-4.3.1/site-library --timings FELLA_1.21.0.tar.gz StartedAt: 2023-07-08 07:08:09 -0000 (Sat, 08 Jul 2023) EndedAt: 2023-07-08 07:28:31 -0000 (Sat, 08 Jul 2023) EllapsedTime: 1222.0 seconds RetCode: 1 Status: ERROR CheckDir: FELLA.Rcheck Warnings: NA