Package: FELLA Version: 1.22.0 Command: /home/biocbuild/R/R-4.3.1/bin/R CMD build --keep-empty-dirs --no-resave-data FELLA StartedAt: 2023-11-02 01:04:27 -0000 (Thu, 02 Nov 2023) EndedAt: 2023-11-02 01:44:28 -0000 (Thu, 02 Nov 2023) EllapsedTime: 2400.2 seconds RetCode: None Status: TIMEOUT PackageFile: None PackageFileSize: NA