Package: FEAST Version: 1.10.0 Command: /Library/Frameworks/R.framework/Resources/bin/R CMD INSTALL FEAST StartedAt: 2024-03-03 15:25:06 -0500 (Sun, 03 Mar 2024) EndedAt: 2024-03-03 15:25:48 -0500 (Sun, 03 Mar 2024) EllapsedTime: 42.4 seconds RetCode: 0 Status: OK